BEGIN:VCALENDAR
VERSION:2.0
PRODID:-//ChamberMaster//Event Calendar 2.0//EN
METHOD:PUBLISH
X-PUBLISHED-TTL:P3D
REFRESH-INTERVAL:P3D
CALSCALE:GREGORIAN
BEGIN:VEVENT
DTSTART:20141021T170000Z
DTEND:20141021T200000Z
X-MICROSOFT-CDO-ALLDAYEVENT:FALSE
SUMMARY:Autumn Break Art Camp for Ages 11-17
DESCRIPTION:Great Autumn crafts & snacks that includes all art supplies. If your kids are ages 11-17\, they can have an amazing\, fun\, and artful week while school is out!
X-ALT-DESC;FMTTYPE=text/html:Great Autumn crafts &amp\; snacks that includes all art supplies. If your kids are ages 11-17\, they can have an amazing\, fun\, and artful week while school is out!
LOCATION:Inspire Art Studio 51 Earnest St. Blairsville
UID:e.256.27509
SEQUENCE:3
DTSTAMP:20260424T061650Z
URL:https://members.visitblairsvillega.com/events/details/autumn-break-art-camp-for-ages-11-17-10-21-2014-27509
END:VEVENT

END:VCALENDAR
