BEGIN:VCALENDAR
VERSION:2.0
PRODID:-//ChamberMaster//Event Calendar 2.0//EN
METHOD:PUBLISH
X-PUBLISHED-TTL:P3D
REFRESH-INTERVAL:P3D
CALSCALE:GREGORIAN
BEGIN:VEVENT
DTSTART:20150910T140000Z
DTEND:20150910T153000Z
X-MICROSOFT-CDO-ALLDAYEVENT:FALSE
SUMMARY:Award Winning Author To Visit NGTC!
DESCRIPTION:Come join us at North Georgia Technical College to meet highly acclaimed author Megan Shepherd\, author of THE MADMAN'S DAUGHTER trilogy\, THE CAGE trilogy\, and other Young Adult and Fantasy/Science Fiction novels.   \n\n\n	New Voices Choice of 2013 American Booksellers Association\n	Young Adult Book of the Year North Carolina School Librarians Association\n	Southern Independent Booksellers Alliance Award finalist\n	Winner of the North Carolina Young Adult Book Award\n	Keynote speaker for the annual convention of the International H.G. Wells Society\, England\n	Best Debut Author\n	Film rights purchased by Paramount Pictures \n\nYou are invited to stop by the NGTC Blairsville library and meet Megan\, hear about her new books\, and enjoy some light refreshments Thursday\, September 10\, 10:00 A.M.   11:30 A.M.\n\nPlease join us for this exciting event --  See you there!
X-ALT-DESC;FMTTYPE=text/html:<span style="font-size:11pt"><span style="font-family:arial\,sans-serif"><span style="color:rgb(24\, 24\, 24)">Come join us at North Georgia Technical College to meet highly acclaimed author Megan Shepherd\, author of THE MADMAN&#39\;S DAUGHTER trilogy\, THE CAGE trilogy\, and other Young Adult and Fantasy/Science Fiction novels.&nbsp\;&nbsp\; </span></span></span>\n\n<ul>\n	<li><strong><span style="font-size:11pt"><span style="font-family:arial\,sans-serif"><span style="color:rgb(68\, 68\, 68)">New Voices Choice of 2013 American Booksellers Association</span></span></span></strong></li>\n	<li><strong><span style="font-size:11pt"><span style="font-family:arial\,sans-serif"><span style="color:rgb(68\, 68\, 68)">Young Adult Book of the Year North Carolina School Librarians Association</span></span></span></strong></li>\n	<li><strong><span style="font-size:11pt"><span style="font-family:arial\,sans-serif"><span style="color:rgb(68\, 68\, 68)">Southern Independent Booksellers Alliance Award finalist</span></span></span></strong></li>\n	<li><strong><span style="font-size:11pt"><span style="font-family:arial\,sans-serif"><span style="color:rgb(68\, 68\, 68)">Winner of the North Carolina Young Adult Book Award</span></span></span></strong></li>\n	<li><strong><span style="font-size:11pt"><span style="font-family:arial\,sans-serif"><span style="color:rgb(68\, 68\, 68)">Keynote speaker for the annual convention of the International H.G. Wells Society\, England</span></span></span></strong></li>\n	<li><strong><span style="font-size:11pt"><span style="font-family:arial\,sans-serif"><span style="color:rgb(68\, 68\, 68)">Best Debut Author</span></span></span></strong></li>\n	<li><strong><span style="font-size:11pt"><span style="font-family:arial\,sans-serif"><span style="color:rgb(68\, 68\, 68)">Film rights purchased by Paramount Pictures </span></span></span></strong></li>\n</ul>\n<span style="font-size:11pt"><span style="font-family:arial\,sans-serif"><span style="color:rgb(68\, 68\, 68)">You are invited to stop by the NGTC Blairsville library and meet Megan\, hear about her new books\, and enjoy some light refreshments Thursday\, September 10\, 10:00 A.M. &ndash\; 11:30 A.M.</span></span></span><br />\n<strong><span style="font-size:11pt"><span style="font-family:arial\,sans-serif"><span style="color:rgb(68\, 68\, 68)">Please join us for this exciting event --&nbsp\; See you there!</span></span></span></strong><br />\n&nbsp\;
LOCATION:North Georgia Technical College Library
UID:e.256.43954
SEQUENCE:3
DTSTAMP:20260423T134117Z
URL:https://members.visitblairsvillega.com/events/details/award-winning-author-to-visit-ngtc-09-10-2015-43954
END:VEVENT

END:VCALENDAR
