BEGIN:VCALENDAR
VERSION:2.0
PRODID:-//ChamberMaster//Event Calendar 2.0//EN
METHOD:PUBLISH
X-PUBLISHED-TTL:P3D
REFRESH-INTERVAL:P3D
CALSCALE:GREGORIAN
BEGIN:VEVENT
DTSTART:20150423T210000Z
DTEND:20150423T230000Z
X-MICROSOFT-CDO-ALLDAYEVENT:FALSE
SUMMARY:Awesome St. Clare's Spaghetti Dinner
DESCRIPTION:Back by popular demand\, St. Clare's Spaghetti Dinner is back!\n\nALL PROCEEDS TO BENEFIT CANCER RELAY!\n\n\n\nTo Go Orders Available\n\nA great idea to gift a ticket to remember someone special and/or for those in need!
X-ALT-DESC;FMTTYPE=text/html:<strong>Back by popular demand\, St. Clare&#39\;s Spaghetti Dinner is back!</strong><br />\n<strong><span style="font-size: 14px\;"><span style="color: rgb(255\, 0\, 0)\;">ALL PROCEEDS TO BENEFIT CANCER RELAY!</span><br />\n<br />\nTo Go Orders Available<br />\nA great idea to gift a ticket to remember someone special and/or for those in need! </span></strong>
LOCATION:St. Clare's Episcopal Church 777 Ledford Road Blairsville\, GA 30512
UID:e.256.38144
SEQUENCE:3
DTSTAMP:20260423T200120Z
URL:https://members.visitblairsvillega.com/events/details/awesome-st-clare-s-spaghetti-dinner-04-23-2015-38144
END:VEVENT

END:VCALENDAR
