BEGIN:VCALENDAR
VERSION:2.0
PRODID:-//ChamberMaster//Event Calendar 2.0//EN
METHOD:PUBLISH
X-PUBLISHED-TTL:P3D
REFRESH-INTERVAL:P3D
CALSCALE:GREGORIAN
BEGIN:VEVENT
DTSTART:20160730T140000Z
DTEND:20160730T180000Z
X-MICROSOFT-CDO-ALLDAYEVENT:FALSE
SUMMARY:Backpack 2 School Bash for Union County
DESCRIPTION:First United Methodist of Blairsville is hosting the first Backpack 2 School Bash for Union County. The goal of the B2SB is to bring families and community together in a fun way before school starts back.  Our desire is that going back to school should be a time of peace and not stress.  In order to help relieve the financial burden that often comes with returning to school\, the community of Union County has come together to provide a day for families\, friends\, free backpacks\, school supplies\, lunch\, and fun.  In order to pre-register to ensure we have enough backpacks and supplies available\, please click the Register link above.  For more information about the event\, please click the FAQs link.  To see updates as we make progress in our planning\, please check the Updates link often.  Finally\, if you are interested in helping collect school supplies or would like to participate\, you may see drop off locations for supplies (coming soon) as well as Contact us and someone will be in touch quickly.  We look forward to seeing you there!
X-ALT-DESC;FMTTYPE=text/html:First United Methodist of Blairsville is hosting the first Backpack 2 School Bash for Union County. The goal of the B2SB is to bring families and community together in a fun way before school starts back.&nbsp\; Our desire is that going back to school should be a time of peace and not stress.&nbsp\; In order to help relieve the financial burden that often comes with returning to school\, the community of Union County has come together to provide a day for families\, friends\, free backpacks\, school supplies\, lunch\, and fun.&nbsp\; In order to pre-register to ensure we have enough backpacks and supplies available\, please click the Register link above.&nbsp\; For more information about the event\, please click the FAQs link.&nbsp\; To see updates as we make progress in our planning\, please check the Updates link often.&nbsp\; Finally\, if you are interested in helping collect school supplies or would like to participate\, you may see drop off locations for supplies (coming soon) as well as Contact us and someone will be in touch quickly.&nbsp\; We look forward to seeing you there!
LOCATION:First United Methodist of Blairsville\, Blairsville Ga. Located 1/4 mile West of Blairsville on Hwy 515
UID:e.256.52967
SEQUENCE:3
DTSTAMP:20260420T183437Z
URL:https://members.visitblairsvillega.com/events/details/backpack-2-school-bash-for-union-county-07-30-2016-52967
END:VEVENT

END:VCALENDAR
