BEGIN:VCALENDAR
VERSION:2.0
PRODID:-//ChamberMaster//Event Calendar 2.0//EN
METHOD:PUBLISH
X-PUBLISHED-TTL:P3D
REFRESH-INTERVAL:P3D
CALSCALE:GREGORIAN
BEGIN:VEVENT
DTSTART:20150213T140000Z
DTEND:20150213T210000Z
X-MICROSOFT-CDO-ALLDAYEVENT:FALSE
SUMMARY:Bake Sale
DESCRIPTION:Help Cadence Bank support the American Cancer Society!!  All proceeds to benefit Relay for Life.
X-ALT-DESC;FMTTYPE=text/html:Help Cadence Bank support the American Cancer Society!!&nbsp\; All proceeds to benefit Relay for Life.
LOCATION:Cadence Bank 361 Blue Ridge Street Blairsville\, Ga
UID:e.256.37068
SEQUENCE:3
DTSTAMP:20260423T225640Z
URL:https://members.visitblairsvillega.com/events/details/bake-sale-02-13-2015-37068
END:VEVENT

END:VCALENDAR
