BEGIN:VCALENDAR
VERSION:2.0
PRODID:-//ChamberMaster//Event Calendar 2.0//EN
METHOD:PUBLISH
X-PUBLISHED-TTL:P3D
REFRESH-INTERVAL:P3D
CALSCALE:GREGORIAN
BEGIN:VEVENT
DTSTART:20170512T140000Z
DTEND:20170512T180000Z
X-MICROSOFT-CDO-ALLDAYEVENT:FALSE
SUMMARY:Bake Sale
DESCRIPTION:Friends of Union County Library is having a Mother's Day bake sale Friday\, May 12\, from 10-2pm.  We will be selling baked goods of all kinds.  If you need a treat for Mother's Day - please go by the Union County Library in Blairsville and get something tasty.   ALL the proceeds of the sale will go to support the Union County Library.
X-ALT-DESC;FMTTYPE=text/html:<span style="font-size:14px"><span style="font-family:comic sans ms">Friends of Union County Library is having a Mother&#39\;s Day bake sale Friday\, May 12\, from 10-2pm.&nbsp\; We will be selling baked goods of all kinds.&nbsp\; If you need a treat for Mother&#39\;s Day - please go by the Union County Library in Blairsville and get something tasty.&nbsp\;&nbsp\; ALL the proceeds of the sale will go to support the Union County Library.&nbsp\; </span></span>
LOCATION:Community Room\, Union County Library
UID:e.256.73109
SEQUENCE:3
DTSTAMP:20260420T005843Z
URL:https://members.visitblairsvillega.com/events/details/bake-sale-73109
END:VEVENT

END:VCALENDAR
