BEGIN:VCALENDAR
VERSION:2.0
PRODID:-//ChamberMaster//Event Calendar 2.0//EN
METHOD:PUBLISH
X-PUBLISHED-TTL:P3D
REFRESH-INTERVAL:P3D
CALSCALE:GREGORIAN
BEGIN:VEVENT
DTSTART:20141125T140000Z
DTEND:20141125T210000Z
X-MICROSOFT-CDO-ALLDAYEVENT:FALSE
SUMMARY:Bake Sale - Benefits Relay for Life!
DESCRIPTION:Bake Sale\n\nNOVEMBER 24th -26th\n\nHELP CADENCE BANK SUPPORT THE AMERICAN CANCER SOCIETY! All Proceeds to benefit Relay for Life!
X-ALT-DESC;FMTTYPE=text/html:Bake Sale<br />\nNOVEMBER 24th -26th<br />\nHELP CADENCE BANK SUPPORT THE AMERICAN CANCER SOCIETY! All Proceeds to benefit Relay for Life!
LOCATION:Cadence Bank (inside the bank) 361 Blue Ridge Street Blairsville\, GA
UID:e.256.27999
SEQUENCE:3
DTSTAMP:20260424T033933Z
URL:https://members.visitblairsvillega.com/events/details/bake-sale-benefits-relay-for-life-11-25-2014-27999
END:VEVENT

END:VCALENDAR
