BEGIN:VCALENDAR
VERSION:2.0
PRODID:-//ChamberMaster//Event Calendar 2.0//EN
METHOD:PUBLISH
X-PUBLISHED-TTL:P3D
REFRESH-INTERVAL:P3D
CALSCALE:GREGORIAN
BEGIN:VEVENT
DTSTART:20140404T233000Z
DTEND:20140405T020000Z
X-MICROSOFT-CDO-ALLDAYEVENT:FALSE
SUMMARY:Balsam Range
DESCRIPTION:BALSAM RANGE. To encapsulate\, Tim Surrett delivers entertaining MC work as well as seasoned lead and harmony singing. Tim also plays bass most of the time\, and he will occasionally move his talents to the resonator guitar. His presentations are spontaneous\, polished and professional. Buddy Melton is one of the most gifted tenor voices in bluegrass and Americana today. His range and tones largely give BALSAM RANGE its identifying sound\, and his stellar fiddle playing supports the band's programs equally. Caleb Smith has been called one of the top young guns of guitar. His envied unique guitar style pairs perfectly with his energetic power singing. Caleb also delivers ballads with a perfectly toned\, believable tenderness. Darren Nicholson is one of the most gifted mandolins players and harmony singers ever to come from the Southern Mountains. Darren's studied\, energetic performances rival those of the classic old guard performers\, and his enthusiasm for American heritage music styles has no bounds. Marc Pruett plays traditional three finger banjo in intuitive and powerful ways that blend and compliment the influences in the band of jazz and bluegrass country and gospel and swing and old-time. Marc adds a credible entertainment experience of over 40 years to this fresh\, unique Southern band\, BALSAM RANGE.
X-ALT-DESC;FMTTYPE=text/html:BALSAM RANGE. To encapsulate\, Tim Surrett delivers entertaining MC work as well as seasoned lead and harmony singing. Tim also plays bass most of the time\, and he will occasionally move his talents to the resonator guitar. His presentations are spontaneous\, polished and professional. Buddy Melton is one of the most gifted tenor voices in bluegrass and Americana today. His range and tones largely give BALSAM RANGE its identifying sound\, and his stellar fiddle playing supports the band&#39\;s programs equally. Caleb Smith has been called one of the top young guns of guitar. His envied unique guitar style pairs perfectly with his energetic power singing. Caleb also delivers ballads with a perfectly toned\, believable tenderness. Darren Nicholson is one of the most gifted mandolins players and harmony singers ever to come from the Southern Mountains. Darren&#39\;s studied\, energetic performances rival those of the classic old guard performers\, and his enthusiasm for American heritage music styles has no bounds. Marc Pruett plays traditional three finger banjo in intuitive and powerful ways that blend and compliment the influences in the band of jazz and bluegrass country and gospel and swing and old-time. Marc adds a credible entertainment experience of over 40 years to this fresh\, unique Southern band\, BALSAM RANGE.
LOCATION:Smoky Mountain Center for the Performing Arts 1028 Georgia Road Franklin\, NC 28734
UID:e.256.23603
SEQUENCE:3
DTSTAMP:20260424T133253Z
URL:https://members.visitblairsvillega.com/events/details/balsam-range-04-04-2014-23603
END:VEVENT

END:VCALENDAR
