BEGIN:VCALENDAR
VERSION:2.0
PRODID:-//ChamberMaster//Event Calendar 2.0//EN
METHOD:PUBLISH
X-PUBLISHED-TTL:P3D
REFRESH-INTERVAL:P3D
CALSCALE:GREGORIAN
BEGIN:VEVENT
DTSTART:20160528T000000Z
DTEND:20160528T023000Z
X-MICROSOFT-CDO-ALLDAYEVENT:FALSE
SUMMARY:Bar W Agricultural Scholarship Fund Rodeo
DESCRIPTION:2016 Bar W Agricultural Scholarship Fund Rodeo featuring top cowboys & cowgirls competing from all over the country. Sanctioned by the Southern Rodeo Association and the International Pro Rodeo Association. Events include Saddle Bronc Riding\, Bareback Riding\, Barrel Racing\, Team Roping\, Calf Roping\, Steer Wrestling\, Breakaway Roping & Bull Riding. Also introducing Ranch Bronc Riding! Featuring an incredible performance by the One & Only "Cowboy" Kenny Bartram's Steel Rodeo Tour..... a FREESTYLE MOTOCROSS SHOW like nothing you have seen before! Multiple time X Games & Gravity Games Gold Medalists
X-ALT-DESC;FMTTYPE=text/html:2016 Bar W Agricultural Scholarship Fund Rodeo featuring top cowboys &amp\; cowgirls competing from all over the country. Sanctioned by the Southern Rodeo Association and the International Pro Rodeo Association. Events include Saddle Bronc Riding\, Bareback Riding\, Barrel Racing\, Team Roping\, Calf Roping\, Steer Wrestling\, Breakaway Roping &amp\; Bull Riding. Also introducing Ranch Bronc Riding! Featuring an incredible performance by the One &amp\; Only "Cowboy" Kenny Bartram's Steel Rodeo Tour..... a FREESTYLE MOTOCROSS SHOW like nothing you have seen before! Multiple time X Games &amp\; Gravity Games Gold Medalists
LOCATION:4637 Downings Creek Rd Hayesville\, NC
UID:e.256.50924
SEQUENCE:3
DTSTAMP:20260420T223015Z
URL:https://members.visitblairsvillega.com/events/details/bar-w-agricultural-scholarship-fund-rodeo-05-27-2016-50924
END:VEVENT

END:VCALENDAR
