BEGIN:VCALENDAR
VERSION:2.0
PRODID:-//ChamberMaster//Event Calendar 2.0//EN
METHOD:PUBLISH
X-PUBLISHED-TTL:P3D
REFRESH-INTERVAL:P3D
CALSCALE:GREGORIAN
BEGIN:VEVENT
DTSTART:20150307T000000Z
DTEND:20150307T020000Z
X-MICROSOFT-CDO-ALLDAYEVENT:FALSE
SUMMARY:Barker Brothers at John C. Campbell Folk School
DESCRIPTION:Barker Brothers - riveting\, high speed bluegrass played by a family band
X-ALT-DESC;FMTTYPE=text/html:<div>Barker Brothers - riveting\, high speed bluegrass played by a family band</div>\n
LOCATION:Community Room at John C. Campbell Folk School Brasstown\, NC 28902
UID:e.256.33613
SEQUENCE:3
DTSTAMP:20260423T212244Z
URL:https://members.visitblairsvillega.com/events/details/barker-brothers-at-john-c-campbell-folk-school-03-06-2015-33613
END:VEVENT

END:VCALENDAR
