BEGIN:VCALENDAR
VERSION:2.0
PRODID:-//ChamberMaster//Event Calendar 2.0//EN
METHOD:PUBLISH
X-PUBLISHED-TTL:P3D
REFRESH-INTERVAL:P3D
CALSCALE:GREGORIAN
BEGIN:VEVENT
DTSTART:20151017T160000Z
DTEND:20151017T200000Z
X-MICROSOFT-CDO-ALLDAYEVENT:FALSE
SUMMARY:BBQ at 7M Family Farm
DESCRIPTION:Join us Saturday's for Homemade BBQ!\n\nPulled Pork Plates\, Pulled Chicken Plates and Ribs!\n\nColeslaw\, Baked Beans and Potato Salad too!
X-ALT-DESC;FMTTYPE=text/html:Join us Saturday&#39\;s for Homemade&nbsp\;BBQ!<br />\nPulled Pork Plates\, Pulled Chicken Plates and Ribs!<br />\nColeslaw\, Baked Beans and Potato Salad too!
LOCATION:596 Crump Creek Road Blairsville\, GA 30512
UID:e.256.41319
SEQUENCE:3
DTSTAMP:20260423T103115Z
URL:https://members.visitblairsvillega.com/events/details/bbq-at-7m-family-farm-10-17-2015-41319
END:VEVENT

END:VCALENDAR
