BEGIN:VCALENDAR
VERSION:2.0
PRODID:-//ChamberMaster//Event Calendar 2.0//EN
METHOD:PUBLISH
X-PUBLISHED-TTL:P3D
REFRESH-INTERVAL:P3D
CALSCALE:GREGORIAN
BEGIN:VEVENT
DTSTART:20160927T143000Z
DTEND:20160927T153000Z
X-MICROSOFT-CDO-ALLDAYEVENT:FALSE
SUMMARY:Be Awesome Volunteer Orientation
DESCRIPTION:BE AWESOME - VOLUNTEER - The Craddock Center is pleased to announce our first ever Be Awesome Volunteer Orientation\, which will take place Tuesday\, September 27th from 10:30 a.m. to 11:30 a.m. or 1:30 p.m. to 2:30 p.m. at The Craddock Center. The Craddock Center has always been a hub of volunteer activity across our broad nine-county service area\, and we need YOU to help us deliver "happy & hope"! Learn about the many volunteer opportunities we offer\, such as giving free books to children\, processing books for our Story Express bookmobile\, knitting hats\, and more! REGISTER NOW at beawesometcc.eventbrite.com or contact the Center: 706.632.1772 or valerie-craddock@tds.net. The Craddock Center is a nonprofit organization (craddockcenter.org).
X-ALT-DESC;FMTTYPE=text/html:BE AWESOME - VOLUNTEER - The Craddock Center is pleased to announce our first ever Be Awesome Volunteer Orientation\, which will take place Tuesday\, September 27th from 10:30 a.m. to 11:30 a.m. or 1:30 p.m. to 2:30 p.m. at The Craddock Center. The Craddock Center has always been a hub of volunteer activity across our broad nine-county service area\, and we need YOU to help us deliver &ldquo\;happy &amp\; hope&rdquo\;! Learn about the many volunteer opportunities we offer\, such as giving free books to children\, processing books for our Story Express bookmobile\, knitting hats\, and more! REGISTER NOW at beawesometcc.eventbrite.com or contact the Center: 706.632.1772 or valerie-craddock@tds.net. The Craddock Center is a nonprofit organization (craddockcenter.org).
LOCATION:186 Fred Craddock Drive\, Cherry Log\, Ga. 30522
UID:e.256.57864
SEQUENCE:3
DTSTAMP:20260420T144217Z
URL:https://members.visitblairsvillega.com/events/details/be-awesome-volunteer-orientation-57864
END:VEVENT

END:VCALENDAR
