BEGIN:VCALENDAR
VERSION:2.0
PRODID:-//ChamberMaster//Event Calendar 2.0//EN
METHOD:PUBLISH
X-PUBLISHED-TTL:P3D
REFRESH-INTERVAL:P3D
CALSCALE:GREGORIAN
BEGIN:VEVENT
DTSTART:20161105T143000Z
DTEND:20161105T163000Z
X-MICROSOFT-CDO-ALLDAYEVENT:FALSE
SUMMARY:Beading Basics
DESCRIPTION:Jewelry artist\, Vicki Wagoner\, teaches the basics of stringing\, jewelry design and application of basic tools to assist you to unleash your imagination and create your own one-of-a-kind bracelet or necklace. By the end of the class you will be wearing your new creation home! Supply fee includes either a necklace or a bracelet.
X-ALT-DESC;FMTTYPE=text/html:<span style="font-size:16pt"><span style="font-family:garamond\,serif"><span style="color:black">Jewelry artist\, Vicki Wagoner\, teaches the basics of stringing\, jewelry design and application of basic tools to assist you to unleash your imagination and create your own one-of-a-kind bracelet or necklace. By the end of the class you will be wearing your new creation home! Supply fee includes either a necklace or a bracelet.</span></span></span><br />\n&nbsp\;
LOCATION:The Art Center 420 West Main Street Blue Ridge\, GA 30513
UID:e.256.59472
SEQUENCE:3
DTSTAMP:20260420T111417Z
URL:https://members.visitblairsvillega.com/events/details/beading-basics-59472
END:VEVENT

END:VCALENDAR
