BEGIN:VCALENDAR
VERSION:2.0
PRODID:-//ChamberMaster//Event Calendar 2.0//EN
METHOD:PUBLISH
X-PUBLISHED-TTL:P3D
REFRESH-INTERVAL:P3D
CALSCALE:GREGORIAN
BEGIN:VEVENT
DTSTART:20161112T150000Z
DTEND:20161112T220000Z
X-MICROSOFT-CDO-ALLDAYEVENT:FALSE
SUMMARY:Beautiful\, Confident Color
DESCRIPTION:In this two day workshop\, you will learn and explore the many ways color can be used to create a dynamic design\, to lead the viewer's eye through a painting\, to create mood and atmosphere\, to tell an emotional story\, and to make a poetic statement. Day One of this workshop will include a slideshow presentation\, a demonstration\, and color studies. Day Two will be for creating a dynamic painting by applying the techniques and knowledge gained from Day One. Pinnick will do a short demonstration of how to start a new painting by planning a color temperature map within her design. Students will be working from a photograph supplied.
X-ALT-DESC;FMTTYPE=text/html:<span style="font-size:16pt"><span style="font-family:garamond\,serif"><span style="color:black">In this two day workshop\, you will learn and explore the many ways color can be used to create a dynamic design\, to lead the viewer's eye through a painting\, to create mood and atmosphere\, to tell an emotional story\, and to make a poetic statement. Day One of this workshop will include a slideshow presentation\, a demonstration\, and color studies. Day Two will be for creating a dynamic painting by applying the techniques and knowledge gained from Day One. Pinnick will do a short demonstration of how to start a new painting by planning a color temperature map within her design.&nbsp\;Students will be working from a photograph supplied.</span></span></span><br>\n&nbsp\;
LOCATION:The Art Center 420 West Main Street Blue Ridge\, GA 30513
UID:e.256.59562
SEQUENCE:3
DTSTAMP:20260420T125830Z
URL:https://members.visitblairsvillega.com/events/details/beautiful-confident-color-11-12-2016-59562
END:VEVENT

END:VCALENDAR
