BEGIN:VCALENDAR
VERSION:2.0
PRODID:-//ChamberMaster//Event Calendar 2.0//EN
METHOD:PUBLISH
X-PUBLISHED-TTL:P3D
REFRESH-INTERVAL:P3D
CALSCALE:GREGORIAN
BEGIN:VEVENT
DTSTART:20150221T160000Z
DTEND:20150221T180000Z
X-MICROSOFT-CDO-ALLDAYEVENT:FALSE
SUMMARY:Beauty Loves Country Makeovers
DESCRIPTION:Join Us For Boot Scootin \, 2 Steppin  Fun \n\nMary Kay Cosmetics Contest Event\n\nWill Be Located at The Shake Shack \n\n64 Brackett's Way\, Suite 5 Blairsville Behind KFC in Blairsville\n\nSaturday February 21\, 2015       11am  -  1pm\n\nIf you currently don't have a Mary Kay consultant\n\nservicing you and\n\nyou're 18+ I would love to have you join us for the fun!\n\nPlease contact your consultant to RSVP\n\n Roberta L. Ford (706) 897-0245 \n\nYou will have Before and After pictures made and entered in the \n\nBeauty Loves Country Makeover Contest for your chance to win: \nGRAND PRIZE: \n\n1?       $2\,500 donation to a recognized charity or not-for-profit organization selected by Grand Prize winner?\n\n2?       2-day\, 3-night trip to Dallas\, TX for winner and a guest to attend the American Country Music wards Festival             and Show?\n\nA.    Round-trip\, air transportation for winner and a guest from and to a major gateway airport near winner's primary             residence to Dallas \n\nB.     Three nights' lodging (double occupancy/standard room)\n\nC.    A ticket for winner and guest to the ACM Party for a Cause : 50 Years of Music & Memories Festival and              the ACM Awards show \n\nD?.     $750 to be used for meals\n\nE?.     Round-trip ground transportation from airport to hotel\, and from hotel to festival and awards show events? \n\nEstimated Total ARV of Grand Prize: $5\,126?
X-ALT-DESC;FMTTYPE=text/html:<div style="text-align: center\;"><span style="font-size:14px\;"><span style="color: black\;"><span style="font-family: arial bold\;">Join Us For Boot Scootin&prime\;\, 2 Steppin&prime\; Fun </span></span><br />\n<span style="color: black\;"><span style="font-family: calisto mt\,serif\;">Mary Kay Cosmetics Contest Event</span></span><br />\n<span style="color: black\;"><span style="font-family: calisto mt\,serif\;">Will Be Located at The Shake Shack </span></span><br />\n<span style="font-family: calisto mt\,serif\;">64 Brackett&#39\;s Way\, Suite 5</span> Blairsville <span style="font-family: calisto mt\,serif\;">Behind KFC in Blairsville</span></span><br />\n<span style="font-size:14px\;"><span style="color: black\;"><span style="font-family: calisto mt\,serif\;">Saturday</span></span> <span style="color: black\;"><span style="font-family: calisto mt\,serif\;">February 21\, 2015&nbsp\;&nbsp\;&nbsp\;&nbsp\;&nbsp\;&nbsp\; 11am&nbsp\; -&nbsp\; 1pm</span></span><br />\n<strong><span style="font-family: tahoma\,sans-serif\;">If you currently don&#39\;t have a Mary Kay consultant<br />\nservicing you and</span></strong><br />\n<strong><span style="font-family: tahoma\,sans-serif\;"><strong><span style="font-family: tahoma\,sans-serif\;">you&#39\;re 18+ I would love to have you join us for the fun!</span></strong></span></strong><br />\n<span style="color: black\;"><span style="font-family: calisto mt\,serif\;">Please contact your consultant to RSVP</span></span><br />\n<strong><span style="color: black\;"><span style="font-family: calisto mt\,serif\;">&nbsp\;Roberta L. Ford (706) 897-0245 </span></span></strong><br />\n<span style="color: black\;"><span style="font-family: calisto mt\,serif\;">You will have Before and After pictures made and entered in the </span></span><br />\n<span style="color: black\;"><span style="font-family: calisto mt bold italic\;">Beauty Loves Country Makeover Contest </span></span><span style="color: black\;"><span style="font-family: calisto mt\,serif\;">for your chance to win: </span></span></span></div>\n<strong><span style="color:black"><span style="font-family:calibri light\,sans-serif"><span style="font-size:10.0pt">GRAND PRIZE: </span></span></span></strong><br />\n<span style="color:black"><span style="font-family:calibri light\,sans-serif"><span style="font-size:10.0pt">1? &nbsp\;&nbsp\;&nbsp\;&nbsp\;&nbsp\; $2\,500 donation to a recognized charity or not-for-profit organization selected by Grand Prize winner?</span></span></span><br />\n<span style="color:black"><span style="font-family:calibri light\,sans-serif"><span style="font-size:10.0pt">2? &nbsp\;&nbsp\;&nbsp\;&nbsp\;&nbsp\; 2-day\, 3-night trip to Dallas\, TX for winner and a guest to attend the American Country Music wards Festival </span></span></span>&nbsp\;&nbsp\;&nbsp\;&nbsp\;&nbsp\;&nbsp\;&nbsp\;&nbsp\;&nbsp\;&nbsp\;&nbsp\;&nbsp\;<span style="color:black"><span style="font-family:calibri light\,sans-serif"><span style="font-size:10.0pt">and Show?</span></span></span><br />\n<span style="color:black"><span style="font-family:calibri light\,sans-serif"><span style="font-size:10.0pt">A.</span></span></span>&nbsp\;&nbsp\;&nbsp\;&nbsp\;<span style="color:black"><span style="font-family:calibri light\,sans-serif"><span style="font-size:10.0pt">Round-trip\, air transportation for winner and a guest from and to&nbsp\;</span></span></span><a href="http://gan.doubleclick.net/gan_click?lid=41000000028341776&amp\;pubid=21000000000544695"><span style="color:black"><span style="font-family:calibri light\,sans-serif"><span style="font-size:10.0pt">a</span></span></span></a><span style="color:black"><span style="font-family:calibri light\,sans-serif"><span style="font-size:10.0pt"> major gateway airport near winner&#39\;s primary </span></span></span>&nbsp\;&nbsp\;&nbsp\;&nbsp\;&nbsp\;&nbsp\;&nbsp\;&nbsp\;&nbsp\;&nbsp\;&nbsp\;&nbsp\;<span style="color:black"><span style="font-family:calibri light\,sans-serif"><span style="font-size:10.0pt">residence to Dallas </span></span></span><br />\n<a href="http://gan.doubleclick.net/gan_click?lid=41000000028341776&amp\;pubid=21000000000544695"><span style="color:black"><span style="font-family:calibri light\,sans-serif"><span style="font-size:10.0pt">B. </span></span></span></a>&nbsp\;&nbsp\;&nbsp\;&nbsp\;<a href="http://gan.doubleclick.net/gan_click?lid=41000000028341776&amp\;pubid=21000000000544695"><span style="color:black"><span style="font-family:calibri light\,sans-serif"><span style="font-size:10.0pt">Th</span></span></span></a><span style="color:black"><span style="font-family:calibri light\,sans-serif"><span style="font-size:10.0pt">ree nights&#39\; lodging (double occupancy/standard room)<br />\nC.</span></span></span>&nbsp\;&nbsp\;&nbsp\;&nbsp\;<span style="color:black"><span style="font-family:calibri light\,sans-serif"><span style="font-size:10.0pt">A ticket for winner and guest to the ACM Party for a Cause&reg\;: </span></span></span><a href="http://gan.doubleclick.net/gan_click?lid=41000000028341776&amp\;pubid=21000000000544695"><span style="color:black"><span style="font-family:calibri light\,sans-serif"><span style="font-size:10.0pt">50</span></span></span></a><span style="color:black"><span style="font-family:calibri light\,sans-serif"><span style="font-size:10.0pt"> Years of Music &amp\; Memories Festival and </span></span></span>&nbsp\;&nbsp\;&nbsp\;&nbsp\;&nbsp\;&nbsp\; &nbsp\; &nbsp\;&nbsp\;&nbsp\;&nbsp\;<span style="color:black"><span style="font-family:calibri light\,sans-serif"><span style="font-size:10.0pt">the ACM Awards show </span></span></span><br />\n<a href="http://gan.doubleclick.net/gan_click?lid=41000000028341776&amp\;pubid=21000000000544695"><span style="color:black"><span style="font-family:calibri light\,sans-serif"><span style="font-size:10.0pt">D?</span></span></span></a><span style="color:black"><span style="font-family:calibri light\,sans-serif"><span style="font-size:10.0pt">.</span></span></span>&nbsp\;&nbsp\;&nbsp\;&nbsp\; <a href="http://gan.doubleclick.net/gan_click?lid=41000000028341776&amp\;pubid=21000000000544695"><span style="color:black"><span style="font-family:calibri light\,sans-serif"><span style="font-size:10.0pt">$7</span></span></span></a><span style="color:black"><span style="font-family:calibri light\,sans-serif"><span style="font-size:10.0pt">50 to be used for meals</span></span></span><br />\n<a href="http://gan.doubleclick.net/gan_click?lid=41000000028341776&amp\;pubid=21000000000544695"><span style="color:black"><span style="font-family:calibri light\,sans-serif"><span style="font-size:10.0pt">E?. </span></span></span></a>&nbsp\;&nbsp\;&nbsp\;&nbsp\;<a href="http://gan.doubleclick.net/gan_click?lid=41000000028341776&amp\;pubid=21000000000544695"><span style="color:black"><span style="font-family:calibri light\,sans-serif"><span style="font-size:10.0pt">Ro</span></span></span></a><span style="color:black"><span style="font-family:calibri light\,sans-serif"><span style="font-size:10.0pt">und-trip ground transportation from airport to hotel\, and from&nbsp\;</span></span></span><a href="http://gan.doubleclick.net/gan_click?lid=41000000028341776&amp\;pubid=21000000000544695"><span style="color:black"><span style="font-family:calibri light\,sans-serif"><span style="font-size:10.0pt">ho</span></span></span></a><span style="color:black"><span style="font-family:calibri light\,sans-serif"><span style="font-size:10.0pt">tel to festival and awards show events? </span></span></span>\n\n<div style="text-align: center\;"><strong><span style="color:black"><span style="font-family:calibri light\,sans-serif"><span style="font-size:10.0pt">Estimated Total ARV of Grand Prize: $5\,126?</span></span></span></strong></div>\n
LOCATION:64 Brackett's Way\, Suite 5 Blairsville Behind KFC in Blairsville
UID:e.256.37103
SEQUENCE:3
DTSTAMP:20260423T230034Z
URL:https://members.visitblairsvillega.com/events/details/beauty-loves-country-makeovers-02-21-2015-37103
END:VEVENT

END:VCALENDAR
