BEGIN:VCALENDAR
VERSION:2.0
PRODID:-//ChamberMaster//Event Calendar 2.0//EN
METHOD:PUBLISH
X-PUBLISHED-TTL:P3D
REFRESH-INTERVAL:P3D
CALSCALE:GREGORIAN
BEGIN:VEVENT
DTSTART:20150606T110000Z
DTEND:20150606T170000Z
X-MICROSOFT-CDO-ALLDAYEVENT:FALSE
SUMMARY:Beef It Up! - Union County Farmers Market
DESCRIPTION:Enjoy over 80 vendors selling fresh fruits\, veggies\, crafts\, and more!
X-ALT-DESC;FMTTYPE=text/html:Enjoy over 80 vendors selling fresh fruits\,&nbsp\;veggies\, crafts\, and more!
LOCATION:Union County Farmers Market
UID:e.256.37958
SEQUENCE:3
DTSTAMP:20260423T165815Z
URL:https://members.visitblairsvillega.com/events/details/beef-it-up-union-county-farmers-market-06-06-2015-37958
END:VEVENT

END:VCALENDAR
