BEGIN:VCALENDAR
VERSION:2.0
PRODID:-//ChamberMaster//Event Calendar 2.0//EN
METHOD:PUBLISH
X-PUBLISHED-TTL:P3D
REFRESH-INTERVAL:P3D
CALSCALE:GREGORIAN
BEGIN:VEVENT
DTSTART:20161115T190000Z
DTEND:20161115T220000Z
X-MICROSOFT-CDO-ALLDAYEVENT:FALSE
SUMMARY:Beginning DSLR Photography Class
DESCRIPTION:Class will cover the basics of exposure\, composition\, lighting and camera function.  The objective is for students to be able to gain basic photography skills and knowledge which will result in improvement in their images.  The projects include\; group shoots\, hands-on camera instruction and image review.  Students must have a basic knowledge of their camera's operation and must have read the manual.  The supply list includes your camera\, manual\, empty memory card and fully charged battery in each session.
X-ALT-DESC;FMTTYPE=text/html:<span style="color:black\; font-family:garamond\,serif\; font-size:16pt">Class will cover the basics of exposure\, composition\, lighting and camera function.&nbsp\; The objective is for students to be able to gain basic photography skills and knowledge which will result in improvement in their images.&nbsp\; The projects include\; group shoots\, hands-on camera instruction and image review.&nbsp\; Students must have a basic knowledge of their camera&#39\;s operation and must have read the manual.&nbsp\; The supply list includes your camera\, manual\, empty memory card and fully charged battery in each session.</span>
LOCATION:The Art Center 420 West Main Street Blue Ridge\, GA 30513
UID:e.256.59469
SEQUENCE:3
DTSTAMP:20260420T112913Z
URL:https://members.visitblairsvillega.com/events/details/beginning-dslr-photography-class-11-15-2016-59469
END:VEVENT

END:VCALENDAR
