BEGIN:VCALENDAR
VERSION:2.0
PRODID:-//ChamberMaster//Event Calendar 2.0//EN
METHOD:PUBLISH
X-PUBLISHED-TTL:P3D
REFRESH-INTERVAL:P3D
CALSCALE:GREGORIAN
BEGIN:VEVENT
DTSTART:20170930T233000Z
DTEND:20171001T013000Z
X-MICROSOFT-CDO-ALLDAYEVENT:FALSE
SUMMARY:Bela Fleck & Abigail Washburn
DESCRIPTION:In the abstract\, a banjo duo might seem like a musical concept beset by limitations. But when the banjo players cast in those roles areAbigail Washburn and Bela Fleck- she with the earthy sophistication of a postmodern\, old-time singer-songwriter\, he (a fifteen-time Grammy Award winner) with the virtuosic\, jazz-to-classical ingenuity of an iconic instrumentalist and composer with bluegrass roots- it's a different matter entirely. There's no denying that theirs is a one-of-a-kind pairing\, with one-of-a-kind possibilities. Whether at home (the duo married in 2009)\, on stage or on record\, it's their deep bond\, on top of the way their distinct musical personalities and banjo styles interact\, that makes theirs a picking partnership unlike any other on the planet.
X-ALT-DESC;FMTTYPE=text/html:In the abstract\, a banjo duo might seem like a musical concept beset by limitations. But when the banjo players cast in those roles areAbigail Washburn and Bela Fleck- she with the earthy sophistication of a postmodern\, old-time singer-songwriter\, he (a fifteen-time Grammy Award winner) with the virtuosic\, jazz-to-classical ingenuity of an iconic instrumentalist and composer with bluegrass roots- it&#39\;s a different matter entirely. There&#39\;s no denying that theirs is a one-of-a-kind pairing\, with one-of-a-kind possibilities. Whether at home (the duo married in 2009)\, on stage or on record\, it&#39\;s their deep bond\, on top of the way their distinct musical personalities and banjo styles interact\, that makes theirs a picking partnership unlike any other on the planet.
LOCATION:Smoky Mountain Center for the Performing Arts 1028 Georgia Road Franklin\, NC 28734
UID:e.256.69232
SEQUENCE:3
DTSTAMP:20260419T175124Z
URL:https://members.visitblairsvillega.com/events/details/bela-fleck-abigail-washburn-69232
END:VEVENT

END:VCALENDAR
