BEGIN:VCALENDAR
VERSION:2.0
PRODID:-//ChamberMaster//Event Calendar 2.0//EN
METHOD:PUBLISH
X-PUBLISHED-TTL:P3D
REFRESH-INTERVAL:P3D
CALSCALE:GREGORIAN
BEGIN:VEVENT
DTSTART:20151107T110000Z
DTEND:20151107T150000Z
X-MICROSOFT-CDO-ALLDAYEVENT:FALSE
SUMMARY:Belk Fall Charity Sale - Benefits The Micajah Clark Dyer Foundation
DESCRIPTION:The Micajah Clark Dyer Foundation is participating in Belk's spring charity\n\nsale. It will take place on Saturday\, May 2nd\, from 6:00 am to 10:00 am.\n\nWe have tickets for admission to the sale\, $5 each\, available for you to purchase right now! The good thing about buying a ticket is that when you go to the sale\, you will get the $5 back when you present your Charity Sale ticket to the cashier at the time of your purchase. This is a good time for you to buy Christmas gifts at greatly discounted prices.\n\n\n\nThis is a great fund-raising opportunity for the Foundation and a money-saving opportunity for you. All proceeds from my ticket sales will be used to further the education of the public about Clark Dyer's 1874 invention of an "Apparatus for Navigating the Air" (the predecessor of the airplane) through making presentations at various events and producing and placing books and exhibits in museums\, schools and libraries.\n\n\n\nYou can order them by mail by sending your check for $5 multiplied by the number of tickets you want to Micajah Clark Dyer Foundation\, 805 Low Gap Rd.\, Blairsville\, GA 30512 or call 706-745-5125 to place your order.
X-ALT-DESC;FMTTYPE=text/html:<span style="font-size:14px\;"><span style="font-family: times new roman\;">The Micajah Clark Dyer Foundation is participating in Belk&#39\;s&nbsp\;spring charity<br />\nsale. It will take place&nbsp\;on Saturday\, May 2nd\, from 6:00 am to 10:00 am.<br />\nWe have tickets for admission to the sale\, $5 each\,&nbsp\;available for you to purchase right now! The good thing about buying a ticket is that when you go to the sale\, you will get the $5 back when you present your Charity Sale ticket to the cashier&nbsp\;at the time of your&nbsp\;purchase.&nbsp\;This is a good time for you to buy Christmas gifts at greatly discounted prices.<br />\n<br />\nThis is a great fund-raising opportunity for the Foundation and a money-saving opportunity for you. All proceeds from my ticket sales will be used to further the education of the public about Clark Dyer&#39\;s 1874 invention of an &quot\;Apparatus for Navigating the Air&quot\; (the predecessor of the airplane) through making presentations&nbsp\;at various events&nbsp\;and producing and placing books and exhibits in museums\, schools and libraries.<br />\n<br />\nYou can order them by mail by sending your check for $5 multiplied by the number of tickets you want to Micajah Clark Dyer Foundation\, 805 Low Gap Rd.\, Blairsville\, GA 30512 or call 706-745-5125 to place your order.</span></span><br />\n<br />\n&nbsp\;
LOCATION:All Belk Locations
UID:e.256.44269
SEQUENCE:3
DTSTAMP:20260423T085941Z
URL:https://members.visitblairsvillega.com/events/details/belk-fall-charity-sale-benefits-the-micajah-clark-dyer-foundation-11-07-2015-44269
END:VEVENT

END:VCALENDAR
