BEGIN:VCALENDAR
VERSION:2.0
PRODID:-//ChamberMaster//Event Calendar 2.0//EN
METHOD:PUBLISH
X-PUBLISHED-TTL:P3D
REFRESH-INTERVAL:P3D
CALSCALE:GREGORIAN
BEGIN:VEVENT
DTSTART:20140215T003000Z
DTEND:20140215T023000Z
X-MICROSOFT-CDO-ALLDAYEVENT:FALSE
SUMMARY:Bennie Anderson & The Drifters with the Sock Hops
DESCRIPTION:Artist Detail: Bennie sings lead and second tenor harmonies and has been an integral part of the group's overall sound for more than four decades. He had the pleasure of singing with original members that started in 1953 such as Gay Thasher and Bill Pickney. Born in West Point\, Georgia\, Bennie moved to Atlanta at an early age where he currently resides. He enjoys song writing\, a challenging game of basketball\, and singing gospel songs while playing the piano.
X-ALT-DESC;FMTTYPE=text/html:Artist Detail: Bennie sings lead and second tenor harmonies and has been an integral part of the group&#39\;s overall sound for more than four decades. He had the pleasure of singing with original members that started in 1953 such as Gay Thasher and Bill Pickney. Born in West Point\, Georgia\, Bennie moved to Atlanta at an early age where he currently resides. He enjoys song writing\, a challenging game of basketball\, and singing gospel songs while playing the piano. 
LOCATION:Smoky Mountain Center for the Performing Arts 1028 Georgia Road Franklin\, NC 28734
UID:e.256.22874
SEQUENCE:3
DTSTAMP:20260424T165323Z
URL:https://members.visitblairsvillega.com/events/details/bennie-anderson-the-drifters-with-the-sock-hops-02-14-2014-22874
END:VEVENT

END:VCALENDAR
