BEGIN:VCALENDAR
VERSION:2.0
PRODID:-//ChamberMaster//Event Calendar 2.0//EN
METHOD:PUBLISH
X-PUBLISHED-TTL:P3D
REFRESH-INTERVAL:P3D
CALSCALE:GREGORIAN
BEGIN:VEVENT
DTSTART:20150403T230000Z
DTEND:20150404T010000Z
X-MICROSOFT-CDO-ALLDAYEVENT:FALSE
SUMMARY:Berea Bluegrass Ensemble at John C. Campbell Folk School
DESCRIPTION:Berea Bluegrass Ensemble - one of the country's best college bluegrass bands
X-ALT-DESC;FMTTYPE=text/html:<div>Berea Bluegrass Ensemble - one of the country&#39\;s best college bluegrass bands</div>\n
LOCATION:Community Room at John C. Campbell Folk School Brasstown\, NC 28902
UID:e.256.37725
SEQUENCE:3
DTSTAMP:20260423T200430Z
URL:https://members.visitblairsvillega.com/events/details/berea-bluegrass-ensemble-at-john-c-campbell-folk-school-04-03-2015-37725
END:VEVENT

END:VCALENDAR
