BEGIN:VCALENDAR
VERSION:2.0
PRODID:-//ChamberMaster//Event Calendar 2.0//EN
METHOD:PUBLISH
X-PUBLISHED-TTL:P3D
REFRESH-INTERVAL:P3D
CALSCALE:GREGORIAN
BEGIN:VEVENT
DTSTART:20170704T230000Z
DTEND:20170705T020000Z
X-MICROSOFT-CDO-ALLDAYEVENT:FALSE
SUMMARY:Best view for fireworks!
DESCRIPTION:Come watch Blairsville Chamber of Commerce fireworks show from best spot in county! BBQ\, drinks\, treats for sale\, and live music from 7pm until end of fireworks show. Bring chairs and enjoy great evening. No fee.
X-ALT-DESC;FMTTYPE=text/html:Come watch Blairsville Chamber of Commerce fireworks show from best spot in county! BBQ\, drinks\, treats for sale\, and live music from 7pm until end of fireworks show. Bring chairs and enjoy great evening. No fee.
LOCATION:First United Methodist Church located on HWY 515 across from Meeks Park in Blairsville\, GA
UID:e.256.73115
SEQUENCE:3
DTSTAMP:20260419T212505Z
URL:https://members.visitblairsvillega.com/events/details/best-view-for-fireworks-73115
END:VEVENT

END:VCALENDAR
