BEGIN:VCALENDAR
VERSION:2.0
PRODID:-//ChamberMaster//Event Calendar 2.0//EN
METHOD:PUBLISH
X-PUBLISHED-TTL:P3D
REFRESH-INTERVAL:P3D
CALSCALE:GREGORIAN
BEGIN:VEVENT
DTSTART:20140702T170000Z
DTEND:20140702T180000Z
X-MICROSOFT-CDO-ALLDAYEVENT:FALSE
SUMMARY:Better Breather's Club
DESCRIPTION:Better Breather's Club meets twice monthly at Union General Hospital\, 2nd Floor Classroom. First and Third Wednesdays each month. Come join us it FREE!
X-ALT-DESC;FMTTYPE=text/html:Better Breather's Club meets twice monthly at Union General Hospital\, 2nd Floor Classroom. First and Third Wednesdays each month. Come join us it FREE!
LOCATION:Union General Hospital
UID:e.256.24551
SEQUENCE:3
DTSTAMP:20260424T104426Z
URL:https://members.visitblairsvillega.com/events/details/better-breather-s-club-07-02-2014-24551
END:VEVENT

END:VCALENDAR
