BEGIN:VCALENDAR
VERSION:2.0
PRODID:-//ChamberMaster//Event Calendar 2.0//EN
METHOD:PUBLISH
X-PUBLISHED-TTL:P3D
REFRESH-INTERVAL:P3D
CALSCALE:GREGORIAN
BEGIN:VEVENT
DTSTART:20140820T170000Z
DTEND:20140820T180000Z
X-MICROSOFT-CDO-ALLDAYEVENT:FALSE
SUMMARY:Better Breather's Club
DESCRIPTION:Learn to Manage Your Lung Disease at our Better Breather's Club
X-ALT-DESC;FMTTYPE=text/html:Learn to Manage Your Lung Disease at our Better Breather&#39\;s Club
LOCATION:UGH 2nd Floor Classroom
UID:e.256.25992
SEQUENCE:3
DTSTAMP:20260424T073739Z
URL:https://members.visitblairsvillega.com/events/details/better-breather-s-club-08-20-2014-25992
END:VEVENT

END:VCALENDAR
