BEGIN:VCALENDAR
VERSION:2.0
PRODID:-//ChamberMaster//Event Calendar 2.0//EN
METHOD:PUBLISH
X-PUBLISHED-TTL:P3D
REFRESH-INTERVAL:P3D
CALSCALE:GREGORIAN
BEGIN:VEVENT
DTSTART:20140917T170000Z
DTEND:20140917T180000Z
X-MICROSOFT-CDO-ALLDAYEVENT:FALSE
SUMMARY:Better Breather's Club
DESCRIPTION:Better Breather's Club meets the 1st and 3rd Wednesdays of each month. Come join us!
X-ALT-DESC;FMTTYPE=text/html:Better Breather's Club meets the 1st and 3rd Wednesdays of each month. Come join us!
LOCATION:Union General Hospital\, 2nd Floor Classroom
UID:e.256.24571
SEQUENCE:3
DTSTAMP:20260424T073918Z
URL:https://members.visitblairsvillega.com/events/details/better-breather-s-club-09-17-2014-24571
END:VEVENT

END:VCALENDAR
