BEGIN:VCALENDAR
VERSION:2.0
PRODID:-//ChamberMaster//Event Calendar 2.0//EN
METHOD:PUBLISH
X-PUBLISHED-TTL:P3D
REFRESH-INTERVAL:P3D
CALSCALE:GREGORIAN
BEGIN:VEVENT
DTSTART:20141001T170000Z
DTEND:20141001T180000Z
X-MICROSOFT-CDO-ALLDAYEVENT:FALSE
SUMMARY:Better Breather's Club
DESCRIPTION:Better breathing class taught at Union General Hospital by Respiratory Therapy. Support group for people with chronic lung disease and their families\, friends\, and support persons. Guidelines are approved by the American Lung Association.
X-ALT-DESC;FMTTYPE=text/html:Better breathing class taught at Union General Hospital by Respiratory Therapy. Support group for people with chronic lung disease and their families\, friends\, and support persons. Guidelines are approved by the American Lung Association.
LOCATION:Union General Hospital\, 2nd Floor Breakroom
UID:e.256.37334
SEQUENCE:3
DTSTAMP:20260424T045152Z
URL:https://members.visitblairsvillega.com/events/details/better-breather-s-club-10-01-2014-37334
END:VEVENT

END:VCALENDAR
