BEGIN:VCALENDAR
VERSION:2.0
PRODID:-//ChamberMaster//Event Calendar 2.0//EN
METHOD:PUBLISH
X-PUBLISHED-TTL:P3D
REFRESH-INTERVAL:P3D
CALSCALE:GREGORIAN
BEGIN:VEVENT
DTSTART:20151007T170000Z
DTEND:20151007T180000Z
X-MICROSOFT-CDO-ALLDAYEVENT:FALSE
SUMMARY:Better Breathers Club
DESCRIPTION:A monthly class for people with chronic lung diseases. Come see what we are about!
X-ALT-DESC;FMTTYPE=text/html:A monthly class for people with chronic lung diseases. Come see what we are about!
LOCATION:Union General Hospital 2nd Floor Classroom
UID:e.256.37094
SEQUENCE:3
DTSTAMP:20260423T115708Z
URL:https://members.visitblairsvillega.com/events/details/better-breathers-club-10-07-2015-37094
END:VEVENT

END:VCALENDAR
