BEGIN:VCALENDAR
VERSION:2.0
PRODID:-//ChamberMaster//Event Calendar 2.0//EN
METHOD:PUBLISH
X-PUBLISHED-TTL:P3D
REFRESH-INTERVAL:P3D
CALSCALE:GREGORIAN
BEGIN:VEVENT
DTSTART:20151202T180000Z
DTEND:20151202T190000Z
X-MICROSOFT-CDO-ALLDAYEVENT:FALSE
SUMMARY:Better Breathers Club
DESCRIPTION:A monthly class for people with chronic lung diseases. Come see what we are about!
X-ALT-DESC;FMTTYPE=text/html:A monthly class for people with chronic lung diseases. Come see what we are about!
LOCATION:Union General Hospital 2nd Floor Classroom
UID:e.256.37096
SEQUENCE:3
DTSTAMP:20260421T074046Z
URL:https://members.visitblairsvillega.com/events/details/better-breathers-club-12-02-2015-37096
END:VEVENT

END:VCALENDAR
