BEGIN:VCALENDAR
VERSION:2.0
PRODID:-//ChamberMaster//Event Calendar 2.0//EN
METHOD:PUBLISH
X-PUBLISHED-TTL:P3D
REFRESH-INTERVAL:P3D
CALSCALE:GREGORIAN
BEGIN:VEVENT
DTSTART:20171004T170000Z
DTEND:20171004T180000Z
X-MICROSOFT-CDO-ALLDAYEVENT:FALSE
SUMMARY:Better Breathers Club meeting at Union General Hospital
DESCRIPTION:The Better Breathers Club (BBC) meets on the first Wednesday of every month at 1 p.m. in the second floor Classroom A at Union General Hospital. The BBC provides support\, education and socialization to people with COPD (Chronic Obstructive Pulmonary Disease) or another chronic lung disease\, their family members and/or caregivers. You will learn how to manage your condition\, and take part in discussions and practice new skills. You will learn about resources and activities in your community that can help you manage your day-to-day life. You will get out of the house and can become more active.\n \n\nThis club is FREE and open to the public! We hope to see you there.
X-ALT-DESC;FMTTYPE=text/html:<span style="background-color:rgb(255\, 255\, 255)\; color:rgb(44\, 44\, 44)\; font-family:georgia\,serif\; font-size:16px">The Better Breathers Club (BBC) meets on the first Wednesday of every month at 1 p.m. in the second floor Classroom A at Union General Hospital. The BBC provides support\, education and socialization to people with COPD (Chronic Obstructive Pulmonary Disease) or another chronic lung disease\, their family members and/or caregivers. You will learn how to manage your condition\, and take part in discussions and practice new skills. You will learn about resources and activities in your community that can help you manage your day-to-day life. You will get out of the house and can become more active.</span>\n<div>&nbsp\;</div>\n\n<div><span style="background-color:rgb(255\, 255\, 255)\; color:rgb(44\, 44\, 44)\; font-family:georgia\,serif\; font-size:16px">This club is FREE and open to the public! We hope to see you there.</span></div>\n
LOCATION:Located in the Union General Hospital 2nd Floor Classroom A. Union General Hospital 35 Hospital Road Blairsville\, GA 30512
UID:e.256.71040
SEQUENCE:3
DTSTAMP:20260419T160543Z
URL:https://members.visitblairsvillega.com/events/details/better-breathers-club-meeting-at-union-general-hospital-10-04-2017-71040
END:VEVENT

END:VCALENDAR
