BEGIN:VCALENDAR
VERSION:2.0
PRODID:-//ChamberMaster//Event Calendar 2.0//EN
METHOD:PUBLISH
X-PUBLISHED-TTL:P3D
REFRESH-INTERVAL:P3D
CALSCALE:GREGORIAN
BEGIN:VEVENT
DTSTART:20151209T143000Z
DTEND:20151209T153000Z
X-MICROSOFT-CDO-ALLDAYEVENT:FALSE
SUMMARY:Bible Study at Brasstown Manor
DESCRIPTION:Come join us at Brasstown Manor as we study God's word and fellowship with His people. We have a wonderful study group and we would love to have you come join us. Coffee and hot tea will be provided\, just bring your Bible and come on out.
X-ALT-DESC;FMTTYPE=text/html:Come join us at Brasstown Manor as we study God&#39\;s word and fellowship with His people. We have a wonderful study group and we would love to have you come join us. Coffee and hot tea will be provided\, just bring your Bible and come on out.
LOCATION:Brasstown Manor Retirement Community 108 Church St Hiawassee\, GA
UID:e.256.39865
SEQUENCE:3
DTSTAMP:20260421T074103Z
URL:https://members.visitblairsvillega.com/events/details/bible-study-at-brasstown-manor-12-09-2015-39865
END:VEVENT

END:VCALENDAR
