BEGIN:VCALENDAR
VERSION:2.0
PRODID:-//ChamberMaster//Event Calendar 2.0//EN
METHOD:PUBLISH
X-PUBLISHED-TTL:P3D
REFRESH-INTERVAL:P3D
CALSCALE:GREGORIAN
BEGIN:VEVENT
DTSTART:20171121T150000Z
DTEND:20171121T190000Z
X-MICROSOFT-CDO-ALLDAYEVENT:FALSE
SUMMARY:BIG THANKSGIVING BAKE SALE
DESCRIPTION:The Friends of Union County Library are having a big bake sale just before Thanksgiving. Come one\, come all\, and get your baked goodies for the holidays. We'll have pies\, cakes\, cookies\, brownies\, breads -- all the foods you'll want around the house and might not have time to bake yourself. Let us reduce at least some of the stress of holiday cooking! And don't forget\, these foods will make great hostess gifts for some lucky person.
X-ALT-DESC;FMTTYPE=text/html:<span style="font-size:12px"><span style="font-family:comic sans ms">The Friends of Union County Library are having a big bake sale just before Thanksgiving. Come one\, come all\, and get your baked goodies for the holidays. We&#39\;ll have pies\, cakes\, cookies\, brownies\, breads -- all the foods you&#39\;ll want around the house and might not have time to bake yourself. Let us reduce at least some of the stress of holiday cooking! And don&#39\;t forget\, these foods will make great hostess gifts for some lucky person.</span></span>
LOCATION:Union County Library in the Community Room 1515 Hunt-Martin St. Blairsville\, GA
UID:e.256.76807
SEQUENCE:3
DTSTAMP:20260419T141130Z
URL:https://members.visitblairsvillega.com/events/details/big-thanksgiving-bake-sale-76807
END:VEVENT

END:VCALENDAR
