BEGIN:VCALENDAR
VERSION:2.0
PRODID:-//ChamberMaster//Event Calendar 2.0//EN
METHOD:PUBLISH
X-PUBLISHED-TTL:P3D
REFRESH-INTERVAL:P3D
CALSCALE:GREGORIAN
BEGIN:VEVENT
DTSTART:20140412T220000Z
DTEND:20140413T010000Z
X-MICROSOFT-CDO-ALLDAYEVENT:FALSE
SUMMARY:BIKE NIGHT - Ollie's Grill
DESCRIPTION:BIKE NIGHT at Ollies \n\n2nd Saturday of each month starting APRIL 12.\n\n6 PM - 9 PM\n\nRAIN or SHINE\n\nMUSIC - FUN - GAMES - TRIVIA - FOOD\n\nREFRESHEMENTS - TIRE KICKIN' - STORY TELLIN'\n\nALL RIDES & BRANDS WELCOME!!
X-ALT-DESC;FMTTYPE=text/html:<div style="text-align: center\;"><font face="comic sans ms"><span style="font-size: 14.44px\;"><strong>BIKE NIGHT at Ollies </strong><br />\n<strong><span style="font-size: 12px\;">2nd Saturday of each month starting APRIL 12.</span><br />\n6 PM - 9 PM<br />\nRAIN or SHINE<br />\n<span style="font-size: 12px\;">MUSIC - FUN - GAMES - TRIVIA - FOOD<br />\nREFRESHEMENTS - TIRE KICKIN&#39\; - STORY TELLIN&#39\;<br />\nALL RIDES &amp\; BRANDS WELCOME!!</span></strong></span></font><br />\n<br />\n<br />\n&nbsp\;</div>\n
LOCATION:OLLIE'S GRILL & SMOKEHOUSE 94 - F TOWN SQUARE - DOWNTOWN BLAIRSVILLE\, GEORGIA
UID:e.256.23775
SEQUENCE:3
DTSTAMP:20260424T152401Z
URL:https://members.visitblairsvillega.com/events/details/bike-night-ollie-s-grill-04-12-2014-23775
END:VEVENT

END:VCALENDAR
