BEGIN:VCALENDAR
VERSION:2.0
PRODID:-//ChamberMaster//Event Calendar 2.0//EN
METHOD:PUBLISH
X-PUBLISHED-TTL:P3D
REFRESH-INTERVAL:P3D
CALSCALE:GREGORIAN
BEGIN:VEVENT
DTSTART:20160924T233000Z
DTEND:20160925T013000Z
X-MICROSOFT-CDO-ALLDAYEVENT:FALSE
SUMMARY:Bill Anderson's Country's Family Reunion
DESCRIPTION:Country's Family Reunion brings country music stars\, armed with decades of songs and stories to the Smoky Mountain Center for the Performing Arts' stage. Whisperin' Bill Anderson will host this intimate gathering of country music legends as they share the stories and sing the songs that made them famous. You will undoubtedly find yourself singing along with the classics and find yourself delighted by the stories that go hand in hand with the music.
X-ALT-DESC;FMTTYPE=text/html:Country&#39\;s Family Reunion brings country music stars\, armed with decades of songs and stories to the Smoky Mountain Center for the Performing Arts&#39\; stage. Whisperin&#39\; Bill Anderson will host this intimate gathering of country music legends as they share the stories and sing the songs that made them famous. You will undoubtedly find yourself singing along with the classics and find yourself delighted by the stories that go hand in hand with the music.
LOCATION:Smoky Mountain Center for the Performing Arts 1028 Georgia Road Franklin\, NC 28734
UID:e.256.49406
SEQUENCE:3
DTSTAMP:20260420T145812Z
URL:https://members.visitblairsvillega.com/events/details/bill-anderson-s-country-s-family-reunion-09-24-2016-49406
END:VEVENT

END:VCALENDAR
