BEGIN:VCALENDAR
VERSION:2.0
PRODID:-//ChamberMaster//Event Calendar 2.0//EN
METHOD:PUBLISH
X-PUBLISHED-TTL:P3D
REFRESH-INTERVAL:P3D
CALSCALE:GREGORIAN
BEGIN:VEVENT
DTSTART:20160907T220000Z
DTEND:20160908T000000Z
X-MICROSOFT-CDO-ALLDAYEVENT:FALSE
SUMMARY:BINGO
DESCRIPTION:Bingo every Wednesday night at the civic center.\n\nDoors open at 6:00PM\, Games start at 7:00PM.\n\nUp to $1200.00 in cash prizes...Food available.\n\nHosted by Castoff Pet Rescue\n\nCall 678-630-0452 for more information.
X-ALT-DESC;FMTTYPE=text/html:Bingo every Wednesday night at the civic center.<br />\nDoors open at 6:00PM\, Games start at 7:00PM.<br />\nUp to $1200.00 in cash prizes...Food available.<br />\nHosted by Castoff Pet Rescue<br />\nCall&nbsp\;678-630-0452 for more information.
LOCATION:Haralson Memorial Civic Center 165 Welborn Street Blairsville\, GA
UID:e.256.45900
SEQUENCE:3
DTSTAMP:20260420T144122Z
URL:https://members.visitblairsvillega.com/events/details/bingo-09-07-2016-45900
END:VEVENT

END:VCALENDAR
