BEGIN:VCALENDAR
VERSION:2.0
PRODID:-//ChamberMaster//Event Calendar 2.0//EN
METHOD:PUBLISH
X-PUBLISHED-TTL:P3D
REFRESH-INTERVAL:P3D
CALSCALE:GREGORIAN
BEGIN:VEVENT
DTSTART:20131204T230000Z
DTEND:20131204T230000Z
X-MICROSOFT-CDO-ALLDAYEVENT:FALSE
SUMMARY:Bingo
DESCRIPTION:Castoff Pet Rescue\, Inc. BINGO \n\n\n\nEvery Wednesday Night Starting Wednesday\, October 9th\n\nAt the Blairsville Civic Center 165 Wellborn Street behind CVS and Old Fort Sorghum\n\nDoors Open at 6pm Bingo Starts at 7pm\n\nFood & Drinks Available\n\n\n\nAll proceeds benefit the animals at Castoff Pet Rescue\, Inc. a 501C3 tax exempt organization\n\nCall 706-300-5722 for more information
X-ALT-DESC;FMTTYPE=text/html:<em><strong><span style="font-size: 14px\;">Castoff Pet Rescue\, Inc. BINGO </span><br />\n<br />\nEvery Wednesday Night Starting Wednesday\, October 9th<br />\nAt the Blairsville Civic Center 165 Wellborn Street behind CVS and Old Fort Sorghum<br />\nDoors Open at 6pm Bingo Starts at 7pm<br />\nFood &amp\; Drinks Available<br />\n<br />\nAll proceeds benefit the animals at Castoff Pet Rescue\, Inc. a 501C3 tax exempt organization<br />\nCall 706-300-5722 for more information </strong></em>
LOCATION:Blairsville Civic Center 165 Wellborn Street Blairsville\, GA
UID:e.256.20329
SEQUENCE:3
DTSTAMP:20260424T194009Z
URL:https://members.visitblairsvillega.com/events/details/bingo-12-04-2013-20329
END:VEVENT

END:VCALENDAR
