BEGIN:VCALENDAR
VERSION:2.0
PRODID:-//ChamberMaster//Event Calendar 2.0//EN
METHOD:PUBLISH
X-PUBLISHED-TTL:P3D
REFRESH-INTERVAL:P3D
CALSCALE:GREGORIAN
BEGIN:VEVENT
DTSTART:20151207T143000Z
DTEND:20151207T153000Z
X-MICROSOFT-CDO-ALLDAYEVENT:FALSE
SUMMARY:Bingo at Brasstown Manor
DESCRIPTION:Come join us at Brasstown Manor for BINGO on Monday's. Everyone is welcome!
X-ALT-DESC;FMTTYPE=text/html:Come join us at Brasstown Manor for BINGO on Monday&#39\;s. Everyone is welcome!
LOCATION:Brasstown Manor Retirement Community 108 Church St Hiawassee\, GA
UID:e.256.39905
SEQUENCE:3
DTSTAMP:20260421T074220Z
URL:https://members.visitblairsvillega.com/events/details/bingo-at-brasstown-manor-12-07-2015-39905
END:VEVENT

END:VCALENDAR
