BEGIN:VCALENDAR
VERSION:2.0
PRODID:-//ChamberMaster//Event Calendar 2.0//EN
METHOD:PUBLISH
X-PUBLISHED-TTL:P3D
REFRESH-INTERVAL:P3D
CALSCALE:GREGORIAN
BEGIN:VEVENT
DTSTART:20141202T140000Z
DTEND:20141202T230000Z
X-MICROSOFT-CDO-ALLDAYEVENT:FALSE
SUMMARY:Black Friday Sale at General Supply
DESCRIPTION:Items included in our Black Friday sale include: Candles\, Soaps\, and Jams & Jellies.\n\n\n\nAll items are buy one get one 1/2 off.  Equal or lesser value.  Mix and match.
X-ALT-DESC;FMTTYPE=text/html:Items included in our Black Friday sale include:&nbsp\;Candles\, Soaps\, and Jams &amp\; Jellies.<br />\n<br />\nAll items are buy one get one 1/2 off.&nbsp\; Equal or lesser value.&nbsp\; Mix and match.
LOCATION:General Supply 764 Gainesville Hwy Blairsville\, GA 30512
UID:e.256.28061
SEQUENCE:3
DTSTAMP:20260424T033643Z
URL:https://members.visitblairsvillega.com/events/details/black-friday-sale-at-general-supply-12-02-2014-28061
END:VEVENT

END:VCALENDAR
