BEGIN:VCALENDAR
VERSION:2.0
PRODID:-//ChamberMaster//Event Calendar 2.0//EN
METHOD:PUBLISH
X-PUBLISHED-TTL:P3D
REFRESH-INTERVAL:P3D
CALSCALE:GREGORIAN
BEGIN:VEVENT
DTSTART:20151107T180000Z
DTEND:20151107T210000Z
X-MICROSOFT-CDO-ALLDAYEVENT:FALSE
SUMMARY:Blacksmith & Fine Craft Auction
DESCRIPTION:The Folk School's Keith House Community Room hosts this memorable afternoon fundraiser\, set for Saturday November 7 from 1 p.m. to 4 p.m. During Silent and Live Auctions\, dozens of finely made crafts will be available for bids. Auction attendees will be tempted by forged metal\, jewelry\, pottery\, fiber\, and wood items. Attendees' bids support the Folk School's Clay Spencer Blacksmith Shop\, known nationwide for its superb artist blacksmith program. The Auctions also support other acclaimed Folk School craft programs. Auction admission is free. During the Silent Auction from 1 p.m. to 2 p.m.\, attendees can bid on fine crafts that would enhance any home. Folk School instructors\, students\, and other regional artists have donated these quality pieces. During this time\, browsers can preview Live Auction items before this marquee event takes place from 2 p.m. to 4 p.m. Auctioneers Tim Ryan and Bob Grove enthusiastically lead the bids. Just as Auction proceeds support the Folk School's renowned craft programs\, many Folk School instructors gladly support the School that nurtured their creativity and artistic growth. The instructors have shown their appreciation by generously donating work to this year's Blacksmith & Fine Craft Auction.
X-ALT-DESC;FMTTYPE=text/html:The Folk School&#39\;s Keith House Community Room hosts this memorable afternoon fundraiser\, set for Saturday November 7 from 1 p.m. to 4 p.m. During Silent and Live Auctions\, dozens of finely made crafts will be available for bids. Auction attendees will be tempted by forged metal\, jewelry\, pottery\, fiber\, and wood items. Attendees&#39\; bids support the Folk School&#39\;s Clay Spencer Blacksmith Shop\, known nationwide for its superb artist blacksmith program. The Auctions also support other acclaimed Folk School craft programs. Auction admission is free. During the Silent Auction from 1 p.m. to 2 p.m.\, attendees can bid on fine crafts that would enhance any home. Folk School instructors\, students\, and other regional artists have donated these quality pieces. During this time\, browsers can preview Live Auction items before this marquee event takes place from 2 p.m. to 4 p.m. Auctioneers Tim Ryan and Bob Grove enthusiastically lead the bids. Just as Auction proceeds support the Folk School&#39\;s renowned craft programs\, many Folk School instructors gladly support the School that nurtured their creativity and artistic growth. The instructors have shown their appreciation by generously donating work to this year&#39\;s Blacksmith &amp\; Fine Craft Auction.
LOCATION:John C. Campbell Folk School One Folk School Road Brasstown\, NC 28902
UID:e.256.40380
SEQUENCE:3
DTSTAMP:20260423T084952Z
URL:https://members.visitblairsvillega.com/events/details/blacksmith-fine-craft-auction-11-07-2015-40380
END:VEVENT

END:VCALENDAR
