BEGIN:VCALENDAR
VERSION:2.0
PRODID:-//ChamberMaster//Event Calendar 2.0//EN
METHOD:PUBLISH
X-PUBLISHED-TTL:P3D
REFRESH-INTERVAL:P3D
CALSCALE:GREGORIAN
BEGIN:VEVENT
DTSTART:20141101T170000Z
DTEND:20141101T200000Z
X-MICROSOFT-CDO-ALLDAYEVENT:FALSE
SUMMARY:Blacksmith & Fine Craft Auction - John C Campbell School
DESCRIPTION:November 1\, 2014 Blacksmith & Fine Craft Auction 2014\n\nTime: 1:00 - 4:00 P.M. Keith House Community Room\n\nAdmission: Free and Open to the Public Holiday\n\nThe Folk School is home to one of the country's leading artist blacksmith programs. Our annual Blacksmith & Fine Craft Auction presents some of the finest artist blacksmith and other fine craft items for sale. Proceeds benefit the craft programs at the Folk School.\n\nJoin us for an entertaining afternoon with handmade craft of all types\, including forged metal\, fiber\, jewelry\, wood items\, pottery\, and more! All have been donated by friends of the Folk School\, and are yours for the bidding!
X-ALT-DESC;FMTTYPE=text/html:November 1\, 2014 Blacksmith &amp\; Fine Craft Auction 2014<br />\nTime: 1:00 - 4:00 P.M. Keith House Community Room<br />\nAdmission: Free and Open to the Public Holiday<br />\nThe Folk School is home to one of the country&#39\;s leading artist blacksmith programs. Our annual <a href="http://www.folkschool.org/auction/" target="_blank"><font color="#0066cc">Blacksmith &amp\; Fine Craft Auction</font></a> presents some of the finest artist blacksmith and other fine craft items for sale. Proceeds benefit the craft programs at the Folk School.<br />\nJoin us for an entertaining afternoon with handmade craft of all types\, including forged metal\, fiber\, jewelry\, wood items\, pottery\, and more! All have been donated by friends of the Folk School\, and are yours for the bidding!<br />\n&nbsp\;
LOCATION:John C Campbell Folk School - Keith House Community Room One Folk School Road Brasstown\, NC
UID:e.256.27287
SEQUENCE:3
DTSTAMP:20260424T033505Z
URL:https://members.visitblairsvillega.com/events/details/blacksmith-fine-craft-auction-john-c-campbell-school-11-01-2014-27287
END:VEVENT

END:VCALENDAR
