BEGIN:VCALENDAR
VERSION:2.0
PRODID:-//ChamberMaster//Event Calendar 2.0//EN
METHOD:PUBLISH
X-PUBLISHED-TTL:P3D
REFRESH-INTERVAL:P3D
CALSCALE:GREGORIAN
BEGIN:VEVENT
DTSTART:20160416T120000Z
DTEND:20160416T143000Z
X-MICROSOFT-CDO-ALLDAYEVENT:FALSE
SUMMARY:Blairsville 5K Spring Run & Walk
DESCRIPTION:Blairsville 5K Spring Run & Walk:\n\n5K race\, 5K walk\, 1 mile walk\n\n\n\n\n\nProceeds from the event benefit the Union County Anti-Drug Coaltion\, American Red Cross\, Special Olympics\, Family Connection\, Meals on Wheels\, Shop with a Cop\, Give A Gift\, Recreation Scholarship Fund and Kiwanis Children programs.
X-ALT-DESC;FMTTYPE=text/html:Blairsville 5K Spring Run &amp\; Walk:<br />\n5K race\, 5K walk\, 1 mile walk<br />\n<br />\n<br />\nProceeds from the event benefit the Union County Anti-Drug Coaltion\, American Red Cross\, Special Olympics\, Family Connection\, Meals on Wheels\, Shop with a Cop\, Give A Gift\, Recreation Scholarship Fund and Kiwanis Children programs.
LOCATION:Meeks Park
UID:e.256.50567
SEQUENCE:3
DTSTAMP:20260421T002308Z
URL:https://members.visitblairsvillega.com/events/details/blairsville-5k-spring-run-walk-04-16-2016-50567
END:VEVENT

END:VCALENDAR
