BEGIN:VCALENDAR
VERSION:2.0
PRODID:-//ChamberMaster//Event Calendar 2.0//EN
METHOD:PUBLISH
X-PUBLISHED-TTL:P3D
REFRESH-INTERVAL:P3D
CALSCALE:GREGORIAN
BEGIN:VEVENT
DTSTART:20150919T160000Z
DTEND:20150919T200000Z
X-MICROSOFT-CDO-ALLDAYEVENT:FALSE
SUMMARY:Blairsville Animal Hospital's 20th Anniversary Celebration & Ribbon Cutting
DESCRIPTION:Saturday\, September 19 will mark the 20th anniversary of the Blairsville Animal Hospital!  A celebration that is "All About the Pets" will take place from 12 noon until 4 p.m.  There will be food\, photos\, balloons\, and a ribbon cutting at 2 p.m.  Items to include t-shirts\, pet supplies and more will be raffled off in order to raise money for The Humane Society's Mountain Shelter.  AND if you want to extend your family\, pet adoptions will be happening too.
X-ALT-DESC;FMTTYPE=text/html:Saturday\, September 19 will mark the 20th anniversary of the Blairsville Animal Hospital!&nbsp\; A celebration that is &quot\;All About the Pets&quot\; will take place from 12 noon until 4 p.m.&nbsp\; There will be food\, photos\, balloons\, and a ribbon cutting at 2 p.m.&nbsp\; Items to include t-shirts\, pet supplies and more will be raffled off in order to raise money for The Humane Society&#39\;s Mountain Shelter.&nbsp\; AND if you want to extend your family\, pet adoptions will be happening too.
LOCATION:Blairsville Animal Hospital 294 Cleveland Street Blairsville\, GA 30512
UID:e.256.44191
SEQUENCE:3
DTSTAMP:20260423T134726Z
URL:https://members.visitblairsvillega.com/events/details/blairsville-animal-hospital-s-20th-anniversary-celebration-ribbon-cutting-09-19-2015-44191
END:VEVENT

END:VCALENDAR
