BEGIN:VCALENDAR
VERSION:2.0
PRODID:-//ChamberMaster//Event Calendar 2.0//EN
METHOD:PUBLISH
X-PUBLISHED-TTL:P3D
REFRESH-INTERVAL:P3D
CALSCALE:GREGORIAN
BEGIN:VEVENT
DTSTART:20150523T140000Z
DTEND:20150524T210000Z
X-MICROSOFT-CDO-ALLDAYEVENT:FALSE
SUMMARY:Blairsville Arts\, Crafts\, & Music Festival
DESCRIPTION:The 2015 Blairsville Arts\, Crafts\, and Music Festival will take place on Saturday\, May 23rd and Sunday\, May 24th around the Square in Blairsville. You will enjoy visiting over fifty arts & crafts vendors from around the region along with some delicious mountain fair food.\n\n\n\nThe festivities will begin on Friday night with music inside the Historic Courthouse from 6pm-10pm. On Saturday there will be music inside the Courthouse from 12pm-5pm along with four "jam session" tents around the courthouse lawn for anybody to pull up a chair and jam. On Sunday you will find even more music both inside the Courthouse from 11am-5pm!\n\n\n\nThis festival is a great opportunity for you and your family & friends to explore all the amazing talent in the North Georgia mountain community. Whether you like arts & crafts\, listening to music\, or just meandering through the quaint town of Blairsville\, Ga\, make sure to mark your calendars for a weekend full of family fun!
X-ALT-DESC;FMTTYPE=text/html:<div class="text_exposed_root text_exposed" id="id_5503495f3eb134842291834"><span class="fsl">The 2015 Blairsville Arts\, Crafts\, and Music Festival will take place on Saturday\, May 23rd and Sunday\, May 24th around the Square in Blairsville. You will enjoy visiting over fifty arts &amp\; crafts vendors from around the region along with some delicious mountain fair food.<br />\n<br />\nThe festivities will begin on Friday night with music inside the Historic Courthouse from 6pm-10pm. On Saturday there will be music inside the Courthouse from 12pm-5pm along with four &quot\;jam session&quot\; tents around the courthouse lawn for anybody to pull up a chair and jam. <span class="text_exposed_show">On Sunday you will find even more music both inside the Courthouse from 11am-5pm!<br />\n<br />\nThis festival is a great opportunity for you and your family &amp\; friends to explore all the amazing talent in the North Georgia mountain community. Whether you like arts &amp\; crafts\, listening to music\, or just meandering through the quaint town of Blairsville\, Ga\, make sure to mark your calendars for a weekend full of family fun!</span></span></div>\n
LOCATION:Blairsville's Historic Downtown Square.
UID:e.256.36692
SEQUENCE:3
DTSTAMP:20260423T182823Z
URL:https://members.visitblairsvillega.com/events/details/blairsville-arts-crafts-music-festival-05-23-2015-36692
END:VEVENT

END:VCALENDAR
