BEGIN:VCALENDAR
VERSION:2.0
PRODID:-//ChamberMaster//Event Calendar 2.0//EN
METHOD:PUBLISH
X-PUBLISHED-TTL:P3D
REFRESH-INTERVAL:P3D
CALSCALE:GREGORIAN
BEGIN:VEVENT
DTSTART;VALUE=DATE:20140719
DTEND;VALUE=DATE:20140720
TRANSP:TRANSPARENT
X-MICROSOFT-CDO-ALLDAYEVENT:TRUE
SUMMARY:Blairsville Cinema now showing Disney's Planes 2
DESCRIPTION:Smokey the Bear and the GA State Forestry Service will be on hand Saturday July 19th to usher in the new Disney film\, Planes: Fire & Rescue. Movie goers will have an opportunity to meet Smokey the Bear\, talk with fire rescue professionals\, see equipment and learn about real heroes!
X-ALT-DESC;FMTTYPE=text/html:Smokey the Bear and the GA State Forestry Service will be on hand Saturday July 19th to usher in the new Disney&nbsp\;film\, Planes: Fire &amp\; Rescue. Movie goers will have an opportunity to meet Smokey the Bear\, talk with fire rescue professionals\, see equipment and learn about real heroes!
LOCATION:Blairsville Cinema 38 Backyard Lane Blairsville\, GA
UID:e.256.25382
SEQUENCE:3
DTSTAMP:20260424T105658Z
URL:https://members.visitblairsvillega.com/events/details/blairsville-cinema-now-showing-disney-s-planes-2-07-19-2014-25382
END:VEVENT

END:VCALENDAR
