BEGIN:VCALENDAR
VERSION:2.0
PRODID:-//ChamberMaster//Event Calendar 2.0//EN
METHOD:PUBLISH
X-PUBLISHED-TTL:P3D
REFRESH-INTERVAL:P3D
CALSCALE:GREGORIAN
BEGIN:VEVENT
DTSTART:20160806T140000Z
DTEND:20160806T180000Z
X-MICROSOFT-CDO-ALLDAYEVENT:FALSE
SUMMARY:Blairsville Dance Project "Day of Dance"
DESCRIPTION:Join us for a day of FREE 30-minute mini classes.  Options for ages 18 months and up are available.  Trial classes in ballet\, tap\, jazz\, hip hop\, preschool dance\, and lyrical. Go to BlairsvilleDance.com for class schedule.
X-ALT-DESC;FMTTYPE=text/html:Join us for a day of FREE 30-minute mini classes.&nbsp\; Options for ages 18 months and up are available.&nbsp\; Trial classes in ballet\, tap\, jazz\, hip hop\, preschool dance\, and lyrical. Go to BlairsvilleDance.com for class schedule.
LOCATION:Blairsville Dance Project 80 Blue Ridge Street Blairsville\, GA 30512
UID:e.256.54470
SEQUENCE:3
DTSTAMP:20260420T165009Z
URL:https://members.visitblairsvillega.com/events/details/blairsville-dance-project-day-of-dance-08-06-2016-54470
END:VEVENT

END:VCALENDAR
