BEGIN:VCALENDAR
VERSION:2.0
PRODID:-//ChamberMaster//Event Calendar 2.0//EN
METHOD:PUBLISH
X-PUBLISHED-TTL:P3D
REFRESH-INTERVAL:P3D
CALSCALE:GREGORIAN
BEGIN:VEVENT
DTSTART:20160810T180000Z
DTEND:20160811T010000Z
X-MICROSOFT-CDO-ALLDAYEVENT:FALSE
SUMMARY:Blairsville Galaxy Bowling Celebration Special
DESCRIPTION:Please join us August 10th for the Ribbon Cutting Ceremony at 2 pm.  After the ceremony all bowling will be $1 per person per game from 2 pm - 9 pm.  We look forward to having you celebrate this very joyous occasion with us!
X-ALT-DESC;FMTTYPE=text/html:<div>Please join us August 10th for the Ribbon Cutting Ceremony at 2 pm.&nbsp\; After the ceremony all bowling will be&nbsp\;<strong>$1</strong>&nbsp\;per person per game&nbsp\;from 2 pm - 9 pm.&nbsp\; We look forward to having you celebrate this very joyous occasion with us!&nbsp\;</div>\n
LOCATION:104 Backyard Lane Blairsville\, Ga 30512
UID:e.256.54483
SEQUENCE:3
DTSTAMP:20260420T164740Z
URL:https://members.visitblairsvillega.com/events/details/blairsville-galaxy-bowling-celebration-special-08-10-2016-54483
END:VEVENT

END:VCALENDAR
