BEGIN:VCALENDAR
VERSION:2.0
PRODID:-//ChamberMaster//Event Calendar 2.0//EN
METHOD:PUBLISH
X-PUBLISHED-TTL:P3D
REFRESH-INTERVAL:P3D
CALSCALE:GREGORIAN
BEGIN:VEVENT
DTSTART:20160830T213000Z
DTEND:20160830T220000Z
X-MICROSOFT-CDO-ALLDAYEVENT:FALSE
SUMMARY:Blairsville Galaxy Bowling Church League
DESCRIPTION:First meeting will be 8/30/16 at 5:30pm with the first game at 6:00pm.  This is a 9-Pin No-Tap league for 12 weeks.  Hope you to see you for a great fall/winter season!
X-ALT-DESC;FMTTYPE=text/html:First meeting will be 8/30/16 at 5:30pm with the first game at 6:00pm. &nbsp\;This is a 9-Pin No-Tap league for 12 weeks. &nbsp\;Hope you to see you for a great fall/winter season!
LOCATION:104 Backyard Lane Blairsville\, Ga 30512
UID:e.256.55594
SEQUENCE:3
DTSTAMP:20260420T165051Z
URL:https://members.visitblairsvillega.com/events/details/blairsville-galaxy-bowling-church-league-08-30-2016-55594
END:VEVENT

END:VCALENDAR
