BEGIN:VCALENDAR
VERSION:2.0
PRODID:-//ChamberMaster//Event Calendar 2.0//EN
METHOD:PUBLISH
X-PUBLISHED-TTL:P3D
REFRESH-INTERVAL:P3D
CALSCALE:GREGORIAN
BEGIN:VEVENT
DTSTART:20170515T220000Z
DTEND:20170515T222000Z
X-MICROSOFT-CDO-ALLDAYEVENT:FALSE
SUMMARY:Blairsville Galaxy Bowling Just 4 Fun Summer 9 Pin-No Tap League
DESCRIPTION:This league is men & women individual and starts 5/15/17 with a meeting at 6:00 pm & bowl at 6:20 pm.  The cost per week is $8.00 and the league runs 12 weeks.  This league is NOT USBC Sanctioned.  Play 3 games each night. First Place prize- $7.00 gift card\, Second Place prize- $5.00 gift card\, Third Place prize- Free drink and fry coupon.
X-ALT-DESC;FMTTYPE=text/html:<span style="background-color:rgb(244\, 249\, 251)\; color:rgb(34\, 34\, 34)\; font-family:open sans\,arial\,sans-serif\; font-size:14px">This league is men &amp\; women individual and starts 5/15/17 with a meeting at 6:00 pm &amp\; bowl at 6:20 pm. &nbsp\;The cost per week is $8.00 and the league runs 12 weeks. &nbsp\;This league is NOT USBC Sanctioned. &nbsp\;Play 3 games each night. First Place prize- $7.00 gift card\, Second Place prize- $5.00 gift card\, Third Place prize- Free drink and fry coupon.</span>
LOCATION:104 Backyard Lane Blairsville\, Ga 30512
UID:e.256.72975
SEQUENCE:3
DTSTAMP:20260420T010629Z
URL:https://members.visitblairsvillega.com/events/details/blairsville-galaxy-bowling-just-4-fun-summer-9-pin-no-tap-league-72975
END:VEVENT

END:VCALENDAR
