BEGIN:VCALENDAR
VERSION:2.0
PRODID:-//ChamberMaster//Event Calendar 2.0//EN
METHOD:PUBLISH
X-PUBLISHED-TTL:P3D
REFRESH-INTERVAL:P3D
CALSCALE:GREGORIAN
BEGIN:VEVENT
DTSTART:20170515T220000Z
DTEND:20170515T222000Z
X-MICROSOFT-CDO-ALLDAYEVENT:FALSE
SUMMARY:Blairsville Galaxy Bowling Just 4 Fun Summer Sport Shot Scratch League
DESCRIPTION:This league is men & women individual and starts 5/15/17 with a meeting at 6:00 pm & bowl at 6:20 pm.  The cost per week is $12.50 and the league runs 12 weeks.  This league is NOT USBC Sanctioned.  Play 4 games each night & throw out lowest game.  Different pattern every three weeks.  $20.00 Pro-Shop Gift Card awarded to every quarter winner.
X-ALT-DESC;FMTTYPE=text/html:<span style="background-color:rgb(244\, 249\, 251)\; color:rgb(34\, 34\, 34)\; font-family:open sans\,arial\,sans-serif\; font-size:14px">This league is men &amp\; women individual and starts 5/15/17 with a meeting at 6:00 pm &amp\; bowl at 6:20 pm. &nbsp\;The cost per week is $12.50 and the league runs 12 weeks. &nbsp\;This league is NOT USBC Sanctioned. &nbsp\;Play 4 games each night &amp\; throw out lowest game. &nbsp\;Different pattern every three weeks. &nbsp\;$20.00 Pro-Shop Gift Card awarded to every quarter winner. &nbsp\;</span>
LOCATION:104 Backyard Lane Blairsville\, Ga 30512
UID:e.256.72974
SEQUENCE:3
DTSTAMP:20260420T010614Z
URL:https://members.visitblairsvillega.com/events/details/blairsville-galaxy-bowling-just-4-fun-summer-sport-shot-scratch-league-72974
END:VEVENT

END:VCALENDAR
