BEGIN:VCALENDAR
VERSION:2.0
PRODID:-//ChamberMaster//Event Calendar 2.0//EN
METHOD:PUBLISH
X-PUBLISHED-TTL:P3D
REFRESH-INTERVAL:P3D
CALSCALE:GREGORIAN
BEGIN:VEVENT
DTSTART:20160826T230000Z
DTEND:20160827T030000Z
X-MICROSOFT-CDO-ALLDAYEVENT:FALSE
SUMMARY:Blairsville Galaxy Bowling Live DJ/Karaoke Night
DESCRIPTION:Please come out and join us for a great evening of live DJ/Karaoke Night.  Cosmic bowling will begin at 9pm along with the DJ/Karaoke.  Look forward to seeing you for a fun evening!
X-ALT-DESC;FMTTYPE=text/html:<span style="background-color:rgb(244\, 249\, 251)\; color:rgb(34\, 34\, 34)\; font-family:open sans\,arial\,sans-serif\; font-size:14px">Please come out and join us for a great evening of live DJ/Karaoke Night. &nbsp\;Cosmic bowling will begin at 9pm along with the DJ/Karaoke. &nbsp\;Look forward to seeing you for a fun evening!</span>
LOCATION:104 Backyard Lane Blairsville\, GA 30512
UID:e.256.55541
SEQUENCE:3
DTSTAMP:20260420T165058Z
URL:https://members.visitblairsvillega.com/events/details/blairsville-galaxy-bowling-live-dj-karaoke-night-08-26-2016-55541
END:VEVENT

END:VCALENDAR
