BEGIN:VCALENDAR
VERSION:2.0
PRODID:-//ChamberMaster//Event Calendar 2.0//EN
METHOD:PUBLISH
X-PUBLISHED-TTL:P3D
REFRESH-INTERVAL:P3D
CALSCALE:GREGORIAN
BEGIN:VEVENT
DTSTART:20160729T230000Z
DTEND:20160730T030000Z
X-MICROSOFT-CDO-ALLDAYEVENT:FALSE
SUMMARY:Blairsville Galaxy Bowling Live DJ/Kareoke Night
DESCRIPTION:Please come out and join us for a great evening of live DJ/Kareoke Night.  Cosmic bowling will begin at 9pm along with the DJ/Kareoke.  Look forward to seeing you for a fun evening!
X-ALT-DESC;FMTTYPE=text/html:Please come out and join us for a great evening of live DJ/Kareoke Night. &nbsp\;Cosmic bowling will begin at 9pm along with the DJ/Kareoke. &nbsp\;Look forward to seeing you for a fun evening!
LOCATION:104 Backyard Lane Blairsville\, GA 30512
UID:e.256.54043
SEQUENCE:3
DTSTAMP:20260420T184519Z
URL:https://members.visitblairsvillega.com/events/details/blairsville-galaxy-bowling-live-dj-kareoke-night-07-29-2016-54043
END:VEVENT

END:VCALENDAR
